BEGIN:VCALENDAR
VERSION:2.0
PRODID:-//Sclerodermie.ch - ECPv6.15.18//NONSGML v1.0//EN
CALSCALE:GREGORIAN
METHOD:PUBLISH
X-ORIGINAL-URL:https://www.sclerodermie.ch/de/
X-WR-CALDESC:Veranstaltungen für Sclerodermie.ch
REFRESH-INTERVAL;VALUE=DURATION:PT1H
X-Robots-Tag:noindex
X-PUBLISHED-TTL:PT1H
BEGIN:VTIMEZONE
TZID:Europe/Zurich
BEGIN:DAYLIGHT
TZOFFSETFROM:+0100
TZOFFSETTO:+0200
TZNAME:CEST
DTSTART:20250330T010000
END:DAYLIGHT
BEGIN:STANDARD
TZOFFSETFROM:+0200
TZOFFSETTO:+0100
TZNAME:CET
DTSTART:20251026T010000
END:STANDARD
BEGIN:DAYLIGHT
TZOFFSETFROM:+0100
TZOFFSETTO:+0200
TZNAME:CEST
DTSTART:20260329T010000
END:DAYLIGHT
BEGIN:STANDARD
TZOFFSETFROM:+0200
TZOFFSETTO:+0100
TZNAME:CET
DTSTART:20261025T010000
END:STANDARD
BEGIN:DAYLIGHT
TZOFFSETFROM:+0100
TZOFFSETTO:+0200
TZNAME:CEST
DTSTART:20270328T010000
END:DAYLIGHT
BEGIN:STANDARD
TZOFFSETFROM:+0200
TZOFFSETTO:+0100
TZNAME:CET
DTSTART:20271031T010000
END:STANDARD
END:VTIMEZONE
BEGIN:VEVENT
DTSTART;TZID=Europe/Zurich:20260320T140000
DTEND;TZID=Europe/Zurich:20260320T160000
DTSTAMP:20260422T092944
CREATED:20260205T093146Z
LAST-MODIFIED:20260205T093146Z
UID:10000140-1774015200-1774022400@www.sclerodermie.ch
SUMMARY:Sklerodermie Regionalgruppe Thurgau/Ostschweiz - Treffen
DESCRIPTION:Liebe Mitglieder\, Neumitglieder und Interessierte \nSchon ist es wieder Zeit für unser Frühlingstreffen\, ich freue mich euch zu sehen. \nBei einem gemütlichen Nachmittag tauschen wir unsere Erfahrungen aus\, unterhalten uns über Neuigkeiten und eventuelle Aktivitäten. \nAnmeldung bis spätestens 18.03.2026. \nLiebe Grüsse Gertrud \nFür Infos oder Anmeldungen wenden Sie sich bitte an Gertrud Wiesmann. \n  \n 
URL:https://www.sclerodermie.ch/de/event/sklerodermie-regionalgruppe-thurgau-ostschweiz-treffen-2/
LOCATION:Restaurant Café Rhyhof\, Rheinstrasse 11\, 8500 Frauenfeld
CATEGORIES:Kalender,Regionaltreffen,Thurgau
ORGANIZER;CN="Gertrud Wiesmann":MAILTO:gertrud.wiesmann@sclerodermie.ch
END:VEVENT
BEGIN:VEVENT
DTSTART;TZID=Europe/Zurich:20260324T140000
DTEND;TZID=Europe/Zurich:20260324T160000
DTSTAMP:20260422T092944
CREATED:20260113T093230Z
LAST-MODIFIED:20260113T093230Z
UID:10000073-1774360800-1774368000@www.sclerodermie.ch
SUMMARY:Regionalgruppe BE/VS - Frühlingstreffen
DESCRIPTION:Für Infos oder Anmeldungen wenden Sie sich bitte an Frau Messmer\njoelle.messmer@sclerodermie.ch
URL:https://www.sclerodermie.ch/de/event/regionalgruppe-be-vs-fruehlingstreffen-3/
LOCATION:Rheumaliga BE\, Holzikofenweg 22\, Bern\, 3011
CATEGORIES:Bern,Kalender,Regionaltreffen
END:VEVENT
BEGIN:VEVENT
DTSTART;TZID=Europe/Zurich:20260330T150000
DTEND;TZID=Europe/Zurich:20260330T170000
DTSTAMP:20260422T092944
CREATED:20260224T091404Z
LAST-MODIFIED:20260224T091404Z
UID:10000142-1774882800-1774890000@www.sclerodermie.ch
SUMMARY:Sklerodermie Regionalgruppe Zürich - Treffen
DESCRIPTION:Der Frühling kommt und es wird wieder wärmer\, und wir wollen uns wieder einmal treffen zum Austauschen\, zum Fragen stellen und um miteinander heraus zu finden\, was hilfreich ist\, im Umgang mit unserer Krankheit. \nBist du dabei? Ich freue mich auf viele Teilnehmer. \nAnreise bitte mit ÖV. Falls jemand mit dem Auto kommt\, bitte anmelden\, es stehen nur ganz wenige Parkplätze zur Verfügung. \nAnmeldung zur Teilnahme bei: Barbara Rüegger \n  \n  \n 
URL:https://www.sclerodermie.ch/de/event/sklerodermie-regionalgruppe-zuerich-treffen-3/
LOCATION:Selbsthilfe Zürich\, Jupiterstrasse 42\, Zürich\, 8032\, Switzerland
CATEGORIES:Kalender,Regionaltreffen,Zürich
ORGANIZER;CN="Barbara R%C3%BCegger":MAILTO:barbara.ruegger@gmail.com
END:VEVENT
END:VCALENDAR