BEGIN:VCALENDAR
VERSION:2.0
PRODID:-//Sclerodermie.ch - ECPv6.15.18//NONSGML v1.0//EN
CALSCALE:GREGORIAN
METHOD:PUBLISH
X-WR-CALNAME:Sclerodermie.ch
X-ORIGINAL-URL:https://www.sclerodermie.ch/de/
X-WR-CALDESC:Veranstaltungen für Sclerodermie.ch
REFRESH-INTERVAL;VALUE=DURATION:PT1H
X-Robots-Tag:noindex
X-PUBLISHED-TTL:PT1H
BEGIN:VTIMEZONE
TZID:Europe/Zurich
BEGIN:DAYLIGHT
TZOFFSETFROM:+0100
TZOFFSETTO:+0200
TZNAME:CEST
DTSTART:20240331T010000
END:DAYLIGHT
BEGIN:STANDARD
TZOFFSETFROM:+0200
TZOFFSETTO:+0100
TZNAME:CET
DTSTART:20241027T010000
END:STANDARD
BEGIN:DAYLIGHT
TZOFFSETFROM:+0100
TZOFFSETTO:+0200
TZNAME:CEST
DTSTART:20250330T010000
END:DAYLIGHT
BEGIN:STANDARD
TZOFFSETFROM:+0200
TZOFFSETTO:+0100
TZNAME:CET
DTSTART:20251026T010000
END:STANDARD
BEGIN:DAYLIGHT
TZOFFSETFROM:+0100
TZOFFSETTO:+0200
TZNAME:CEST
DTSTART:20260329T010000
END:DAYLIGHT
BEGIN:STANDARD
TZOFFSETFROM:+0200
TZOFFSETTO:+0100
TZNAME:CET
DTSTART:20261025T010000
END:STANDARD
END:VTIMEZONE
BEGIN:VEVENT
DTSTART;TZID=Europe/Zurich:20250829T180000
DTEND;TZID=Europe/Zurich:20250829T200000
DTSTAMP:20260423T001712
CREATED:20250717T194428Z
LAST-MODIFIED:20250717T194428Z
UID:10000066-1756490400-1756497600@www.sclerodermie.ch
SUMMARY:Sklerodermie Regionalgruppe Zürich - Treffen
DESCRIPTION:Ziel des Treffens: Zeit zum Kennenlernen und Austauschhalten über eure Bedürfnisse und Ideenfür zukünftige Treffen. \nFür Infos oder Anmeldungen wenden Sie sich bitte an Barbara Rüegger. \n  \n 
URL:https://www.sclerodermie.ch/de/event/sklerodermie-regionalgruppe-zuerich-treffen/
LOCATION:Selbsthilfe Zürich\, Jupiterstrasse 42\, Zürich\, 8032\, Switzerland
CATEGORIES:Kalender,Regionaltreffen,Thurgau
ORGANIZER;CN="Barbara R%C3%BCegger":MAILTO:barbara.ruegger@gmail.com
END:VEVENT
END:VCALENDAR