BEGIN:VCALENDAR
VERSION:2.0
PRODID:-//Sclerodermie.ch - ECPv6.15.18//NONSGML v1.0//EN
CALSCALE:GREGORIAN
METHOD:PUBLISH
X-ORIGINAL-URL:https://www.sclerodermie.ch/fr/
X-WR-CALDESC:Évènements pour Sclerodermie.ch
REFRESH-INTERVAL;VALUE=DURATION:PT1H
X-Robots-Tag:noindex
X-PUBLISHED-TTL:PT1H
BEGIN:VTIMEZONE
TZID:Europe/Zurich
BEGIN:DAYLIGHT
TZOFFSETFROM:+0100
TZOFFSETTO:+0200
TZNAME:CEST
DTSTART:20230326T010000
END:DAYLIGHT
BEGIN:STANDARD
TZOFFSETFROM:+0200
TZOFFSETTO:+0100
TZNAME:CET
DTSTART:20231029T010000
END:STANDARD
BEGIN:DAYLIGHT
TZOFFSETFROM:+0100
TZOFFSETTO:+0200
TZNAME:CEST
DTSTART:20240331T010000
END:DAYLIGHT
BEGIN:STANDARD
TZOFFSETFROM:+0200
TZOFFSETTO:+0100
TZNAME:CET
DTSTART:20241027T010000
END:STANDARD
BEGIN:DAYLIGHT
TZOFFSETFROM:+0100
TZOFFSETTO:+0200
TZNAME:CEST
DTSTART:20250330T010000
END:DAYLIGHT
BEGIN:STANDARD
TZOFFSETFROM:+0200
TZOFFSETTO:+0100
TZNAME:CET
DTSTART:20251026T010000
END:STANDARD
END:VTIMEZONE
BEGIN:VEVENT
DTSTART;VALUE=DATE:20240907
DTEND;VALUE=DATE:20240908
DTSTAMP:20260422T030743
CREATED:20240530T143509Z
LAST-MODIFIED:20240530T143509Z
UID:10000004-1725667200-1725753599@www.sclerodermie.ch
SUMMARY:Rencontre du groupe régional de la Romandie
DESCRIPTION:Visite de l’ECA – Exposition interactive à 10h00 suivie d’un repas.\nPlus d’infos suivront \nPour infos et inscriptions\, merci de prendre contact avec Nadine Paciotti.
URL:https://www.sclerodermie.ch/fr/event/rencontre-du-groupe-regional-de-la-romandie-2/
CATEGORIES:Agenda,Rencontres régionales,Romandie
END:VEVENT
END:VCALENDAR