BEGIN:VCALENDAR
VERSION:2.0
PRODID:-//Sclerodermie.ch - ECPv6.15.18//NONSGML v1.0//EN
CALSCALE:GREGORIAN
METHOD:PUBLISH
X-ORIGINAL-URL:https://www.sclerodermie.ch/fr/
X-WR-CALDESC:Évènements pour Sclerodermie.ch
REFRESH-INTERVAL;VALUE=DURATION:PT1H
X-Robots-Tag:noindex
X-PUBLISHED-TTL:PT1H
BEGIN:VTIMEZONE
TZID:Europe/Zurich
BEGIN:DAYLIGHT
TZOFFSETFROM:+0100
TZOFFSETTO:+0200
TZNAME:CEST
DTSTART:20240331T010000
END:DAYLIGHT
BEGIN:STANDARD
TZOFFSETFROM:+0200
TZOFFSETTO:+0100
TZNAME:CET
DTSTART:20241027T010000
END:STANDARD
BEGIN:DAYLIGHT
TZOFFSETFROM:+0100
TZOFFSETTO:+0200
TZNAME:CEST
DTSTART:20250330T010000
END:DAYLIGHT
BEGIN:STANDARD
TZOFFSETFROM:+0200
TZOFFSETTO:+0100
TZNAME:CET
DTSTART:20251026T010000
END:STANDARD
BEGIN:DAYLIGHT
TZOFFSETFROM:+0100
TZOFFSETTO:+0200
TZNAME:CEST
DTSTART:20260329T010000
END:DAYLIGHT
BEGIN:STANDARD
TZOFFSETFROM:+0200
TZOFFSETTO:+0100
TZNAME:CET
DTSTART:20261025T010000
END:STANDARD
END:VTIMEZONE
BEGIN:VEVENT
DTSTART;TZID=Europe/Zurich:20250410T140000
DTEND;TZID=Europe/Zurich:20250410T160000
DTSTAMP:20260421T153221
CREATED:20250401T104415Z
LAST-MODIFIED:20250401T110043Z
UID:10000054-1744293600-1744300800@www.sclerodermie.ch
SUMMARY:Groupe régional BE/VS - Réunion de printemps
DESCRIPTION:Pour toute information ou inscription\, veuillez contacter Mme Messmer :\njoelle.messmer@sclerodermie.ch
URL:https://www.sclerodermie.ch/fr/event/groupe-regional-be-vs-reunion-de-printemps/
LOCATION:Rheumaliga BE\, Holzikofenweg 22\, Bern\, 3011
CATEGORIES:Agenda,Berne,Rencontres régionales
END:VEVENT
END:VCALENDAR