BEGIN:VCALENDAR
VERSION:2.0
PRODID:-//Sclerodermie.ch - ECPv6.15.18//NONSGML v1.0//EN
CALSCALE:GREGORIAN
METHOD:PUBLISH
X-WR-CALNAME:Sclerodermie.ch
X-ORIGINAL-URL:https://www.sclerodermie.ch/fr/
X-WR-CALDESC:Évènements pour Sclerodermie.ch
REFRESH-INTERVAL;VALUE=DURATION:PT1H
X-Robots-Tag:noindex
X-PUBLISHED-TTL:PT1H
BEGIN:VTIMEZONE
TZID:Europe/Zurich
BEGIN:DAYLIGHT
TZOFFSETFROM:+0100
TZOFFSETTO:+0200
TZNAME:CEST
DTSTART:20230326T010000
END:DAYLIGHT
BEGIN:STANDARD
TZOFFSETFROM:+0200
TZOFFSETTO:+0100
TZNAME:CET
DTSTART:20231029T010000
END:STANDARD
BEGIN:DAYLIGHT
TZOFFSETFROM:+0100
TZOFFSETTO:+0200
TZNAME:CEST
DTSTART:20240331T010000
END:DAYLIGHT
BEGIN:STANDARD
TZOFFSETFROM:+0200
TZOFFSETTO:+0100
TZNAME:CET
DTSTART:20241027T010000
END:STANDARD
BEGIN:DAYLIGHT
TZOFFSETFROM:+0100
TZOFFSETTO:+0200
TZNAME:CEST
DTSTART:20250330T010000
END:DAYLIGHT
BEGIN:STANDARD
TZOFFSETFROM:+0200
TZOFFSETTO:+0100
TZNAME:CET
DTSTART:20251026T010000
END:STANDARD
END:VTIMEZONE
BEGIN:VEVENT
DTSTART;TZID=Europe/Zurich:20240615T100000
DTEND;TZID=Europe/Zurich:20240615T163000
DTSTAMP:20260422T073540
CREATED:20240525T122246Z
LAST-MODIFIED:20240525T122246Z
UID:10000001-1718445600-1718469000@www.sclerodermie.ch
SUMMARY:Atelier écriture thérapeuthique
DESCRIPTION:Organisé par l’association Suisse de la fibromyalgie \nSéminaire d’été « Ecriture thérapeutique » \nAnimé par Mme Maurane Etienne\, psychologue\nCHF 35.- pour les membres de l’ASFM\nCHF 120.- pour les non-membres de l’ASFM \nLes informations complémentaires et inscription vont suivre. \nhttps://suisse-fibromyalgie.ch/fr/evenement/seminaire-dete-ecriture-therapeutique
URL:https://www.sclerodermie.ch/fr/event/atelier-ecriture-therapeuthique/
CATEGORIES:Agenda,Autres dates,Romandie
END:VEVENT
BEGIN:VEVENT
DTSTART;TZID=Europe/Zurich:20240619T190000
DTEND;TZID=Europe/Zurich:20240619T203000
DTSTAMP:20260422T073540
CREATED:20240604T065106Z
LAST-MODIFIED:20240604T065106Z
UID:10000016-1718823600-1718829000@www.sclerodermie.ch
SUMMARY:Conférence “Un état inflammatoire chronique” - Sierre
DESCRIPTION:Organisé par l’association Suisse de la fibromyalgie \nConférence “Un état inflammatoire chronique” \nPour info et inscription : \nhttps://suisse-fibromyalgie.ch/fr/evenement/conference-un-etat-inflammatoire-chronique
URL:https://www.sclerodermie.ch/fr/event/conference-un-etat-inflammatoire-chronique-sierre/
LOCATION:Pure Clinic\, Av. du Général Guisan 30\, Sierre\, 3960
CATEGORIES:Agenda,Autres dates,Rencontres régionales,Romandie
END:VEVENT
BEGIN:VEVENT
DTSTART;TZID=Europe/Zurich:20240628T100000
DTEND;TZID=Europe/Zurich:20240628T170000
DTSTAMP:20260422T073540
CREATED:20240604T065715Z
LAST-MODIFIED:20240604T083329Z
UID:10000017-1719568800-1719594000@www.sclerodermie.ch
SUMMARY:Séminaire Nutrition et Santé - Sierre
DESCRIPTION:Organisé par l’association Suisse de la fibromyalgie \nSéminaire Nutrition et Santé \nAnimé par Mme Maurane Etienne\, psychologue\nCHF 35.- pour les membres de l’ASFM\nCHF 120.- pour les non-membres de l’ASFM \nPour info et inscription : \nSéminaire Nutrition et santé
URL:https://www.sclerodermie.ch/fr/event/seminaire-nutrition-et-sante-sierre/
LOCATION:Pure Clinic\, Av. du Général Guisan 30\, Sierre\, 3960
CATEGORIES:Agenda,Autres dates,Rencontres régionales,Romandie
ORGANIZER;CN="ASFM":MAILTO:info@suisse-fibromyalgie.ch
END:VEVENT
END:VCALENDAR