BEGIN:VCALENDAR
VERSION:2.0
PRODID:-//Sclerodermie.ch - ECPv6.15.18//NONSGML v1.0//EN
CALSCALE:GREGORIAN
METHOD:PUBLISH
X-WR-CALNAME:Sclerodermie.ch
X-ORIGINAL-URL:https://www.sclerodermie.ch/fr/
X-WR-CALDESC:Évènements pour Sclerodermie.ch
REFRESH-INTERVAL;VALUE=DURATION:PT1H
X-Robots-Tag:noindex
X-PUBLISHED-TTL:PT1H
BEGIN:VTIMEZONE
TZID:Europe/Zurich
BEGIN:DAYLIGHT
TZOFFSETFROM:+0100
TZOFFSETTO:+0200
TZNAME:CEST
DTSTART:20240331T010000
END:DAYLIGHT
BEGIN:STANDARD
TZOFFSETFROM:+0200
TZOFFSETTO:+0100
TZNAME:CET
DTSTART:20241027T010000
END:STANDARD
BEGIN:DAYLIGHT
TZOFFSETFROM:+0100
TZOFFSETTO:+0200
TZNAME:CEST
DTSTART:20250330T010000
END:DAYLIGHT
BEGIN:STANDARD
TZOFFSETFROM:+0200
TZOFFSETTO:+0100
TZNAME:CET
DTSTART:20251026T010000
END:STANDARD
BEGIN:DAYLIGHT
TZOFFSETFROM:+0100
TZOFFSETTO:+0200
TZNAME:CEST
DTSTART:20260329T010000
END:DAYLIGHT
BEGIN:STANDARD
TZOFFSETFROM:+0200
TZOFFSETTO:+0100
TZNAME:CET
DTSTART:20261025T010000
END:STANDARD
END:VTIMEZONE
BEGIN:VEVENT
DTSTART;TZID=Europe/Zurich:20250507T093000
DTEND;TZID=Europe/Zurich:20250507T160000
DTSTAMP:20260421T122359
CREATED:20250321T162344Z
LAST-MODIFIED:20250321T162700Z
UID:10000033-1746610200-1746633600@www.sclerodermie.ch
SUMMARY:Comité
DESCRIPTION:Vous avez des questions ? Contactez nous : \ninfo@sclerodermie.ch
URL:https://www.sclerodermie.ch/fr/event/comite/2025-05-07/
LOCATION:Martin Disteli-Strasse 2\, 4600 Olten
CATEGORIES:Agenda,Association,Autres dates
END:VEVENT
BEGIN:VEVENT
DTSTART;TZID=Europe/Zurich:20250510T093000
DTEND;TZID=Europe/Zurich:20250510T170000
DTSTAMP:20260421T122359
CREATED:20250321T160902Z
LAST-MODIFIED:20250321T161307Z
UID:10000029-1746869400-1746896400@www.sclerodermie.ch
SUMMARY:SA 10 mai 2025 - Journée de la Fibromyalgie - Stand de l'ASS/SVS/ASS
DESCRIPTION:
URL:https://www.sclerodermie.ch/fr/event/sa-10-mai-2025-journee-de-la-fibromyalgie-stand-de-lass-svs-ass/
LOCATION:CHUV – Niv.7 Auditorium\, Lausanne
CATEGORIES:Agenda,Association,Autres dates
ORGANIZER;CN="ASFM":MAILTO:info@suisse-fibromyalgie.ch
END:VEVENT
BEGIN:VEVENT
DTSTART;TZID=Europe/Zurich:20250517T114500
DTEND;TZID=Europe/Zurich:20250517T170000
DTSTAMP:20260421T122359
CREATED:20250328T111556Z
LAST-MODIFIED:20250506T123611Z
UID:10000048-1747482300-1747501200@www.sclerodermie.ch
SUMMARY:Sortie groupe Romandie
DESCRIPTION:Voici quelques infos pour la sortie du groupe Romandie : \nSamedi 17 mai à Vevey\nRV 11h45\nRestaurant Aladin \nPuis visite au musée de l’alimentarium vers 14h30. \nPour info\, la place du marché (parking) est partiellement fermée les samedis car il y a le marché. \nInscription jusqu’au 10 mai.
URL:https://www.sclerodermie.ch/fr/event/sortie-groupe-romandie/
LOCATION:Vevey
CATEGORIES:Agenda,Rencontres régionales,Romandie
ORGANIZER;CN="Nadine Paciotti":MAILTO:nadine.paciotti@sclerodermie.ch
END:VEVENT
END:VCALENDAR