BEGIN:VCALENDAR
VERSION:2.0
PRODID:-//Sclerodermie.ch - ECPv6.15.18//NONSGML v1.0//EN
CALSCALE:GREGORIAN
METHOD:PUBLISH
X-WR-CALNAME:Sclerodermie.ch
X-ORIGINAL-URL:https://www.sclerodermie.ch/it/
X-WR-CALDESC:Eventi per Sclerodermie.ch
REFRESH-INTERVAL;VALUE=DURATION:PT1H
X-Robots-Tag:noindex
X-PUBLISHED-TTL:PT1H
BEGIN:VTIMEZONE
TZID:Europe/Zurich
BEGIN:DAYLIGHT
TZOFFSETFROM:+0100
TZOFFSETTO:+0200
TZNAME:CEST
DTSTART:20240331T010000
END:DAYLIGHT
BEGIN:STANDARD
TZOFFSETFROM:+0200
TZOFFSETTO:+0100
TZNAME:CET
DTSTART:20241027T010000
END:STANDARD
BEGIN:DAYLIGHT
TZOFFSETFROM:+0100
TZOFFSETTO:+0200
TZNAME:CEST
DTSTART:20250330T010000
END:DAYLIGHT
BEGIN:STANDARD
TZOFFSETFROM:+0200
TZOFFSETTO:+0100
TZNAME:CET
DTSTART:20251026T010000
END:STANDARD
BEGIN:DAYLIGHT
TZOFFSETFROM:+0100
TZOFFSETTO:+0200
TZNAME:CEST
DTSTART:20260329T010000
END:DAYLIGHT
BEGIN:STANDARD
TZOFFSETFROM:+0200
TZOFFSETTO:+0100
TZNAME:CET
DTSTART:20261025T010000
END:STANDARD
BEGIN:DAYLIGHT
TZOFFSETFROM:+0100
TZOFFSETTO:+0200
TZNAME:CEST
DTSTART:20270328T010000
END:DAYLIGHT
BEGIN:STANDARD
TZOFFSETFROM:+0200
TZOFFSETTO:+0100
TZNAME:CET
DTSTART:20271031T010000
END:STANDARD
END:VTIMEZONE
BEGIN:VEVENT
DTSTART;TZID=Europe/Zurich:20250410T140000
DTEND;TZID=Europe/Zurich:20250410T160000
DTSTAMP:20260423T061956
CREATED:20250401T104415Z
LAST-MODIFIED:20250401T110335Z
UID:10000055-1744293600-1744300800@www.sclerodermie.ch
SUMMARY:Gruppo regionale BE/VS - Riunione di primavera
DESCRIPTION:Per informazioni o per iscriversi\, contatta la signora Messmer\njoelle.messmer@sclerodermie.ch
URL:https://www.sclerodermie.ch/it/event/gruppo-regionale-be-vs-riunione-di-primavera/
LOCATION:Rheumaliga BE\, Holzikofenweg 22\, Bern\, 3011
CATEGORIES:Berna,Diario,Incontri regionali
END:VEVENT
BEGIN:VEVENT
DTSTART;TZID=Europe/Zurich:20250507T093000
DTEND;TZID=Europe/Zurich:20250507T160000
DTSTAMP:20260423T061956
CREATED:20250321T162344Z
LAST-MODIFIED:20250321T162635Z
UID:10000041-1746610200-1746633600@www.sclerodermie.ch
SUMMARY:Comitato
DESCRIPTION:Hai delle domande? Contattaci:  \ninfo@sclerodermie.ch
URL:https://www.sclerodermie.ch/it/event/comitato/2025-05-07/
LOCATION:Martin Disteli-Strasse 2\, 4600 Olten
CATEGORIES:Altre date,Associazione,Diario
END:VEVENT
BEGIN:VEVENT
DTSTART;TZID=Europe/Zurich:20250510T093000
DTEND;TZID=Europe/Zurich:20250510T170000
DTSTAMP:20260423T061956
CREATED:20250321T160902Z
LAST-MODIFIED:20250321T160902Z
UID:10000031-1746869400-1746896400@www.sclerodermie.ch
SUMMARY:SA 10 maggio 2025 - Giornata della fibromialgia - Stand ASS/SVS/ASS
DESCRIPTION:
URL:https://www.sclerodermie.ch/it/event/sa-10-maggio-2025-giornata-della-fibromialgia-stand-ass-svs-ass/
LOCATION:CHUV – Niv.7 Auditorium\, Lausanne
CATEGORIES:Altre date,Associazione,Diario
ORGANIZER;CN="ASFM":MAILTO:info@suisse-fibromyalgie.ch
END:VEVENT
BEGIN:VEVENT
DTSTART;TZID=Europe/Zurich:20250512T133000
DTEND;TZID=Europe/Zurich:20250512T150000
DTSTAMP:20260423T061956
CREATED:20250506T123032Z
LAST-MODIFIED:20250506T123125Z
UID:10000062-1747056600-1747062000@www.sclerodermie.ch
SUMMARY:Riunione del gruppo regionale Ticino
DESCRIPTION:Vi invitiamo a passae un po’ di tempo tutti insieme per poterci conoscere\, raccontare e condividere le nostre storie. \nE chissà\, potrebbe essere d’aiuto davvero a tutti quanti! Qual’è il miglior modo per farlo se non immersi nella natura ? \nVi aspettiamo numerosi! \n 
URL:https://www.sclerodermie.ch/it/event/riunione-del-gruppo-regionale-ticino/
LOCATION:Zona protetta di Gordola\, Tenero – Brere\, Tenero - Brere\, Switzerland
CATEGORIES:Diario,Incontri regionali,Ticino
END:VEVENT
BEGIN:VEVENT
DTSTART;TZID=Europe/Zurich:20250602T133000
DTEND;TZID=Europe/Zurich:20250602T150000
DTSTAMP:20260423T061956
CREATED:20250506T123256Z
LAST-MODIFIED:20250506T123256Z
UID:10000063-1748871000-1748876400@www.sclerodermie.ch
SUMMARY:Riunione del gruppo regionale Ticino
DESCRIPTION:Vi invitiamo a passae un po’ di tempo tutti insieme per poterci conoscere\, raccontare e condividere le nostre storie. \nE chissà\, potrebbe essere d’aiuto davvero a tutti quanti! Qual’è il miglior modo per farlo se non immersi nella natura ? \nVi aspettiamo numerosi! \n 
URL:https://www.sclerodermie.ch/it/event/riunione-del-gruppo-regionale-ticino-2/
LOCATION:Zona protetta di Gordola\, Tenero – Brere\, Tenero - Brere\, Switzerland
CATEGORIES:Diario,Incontri regionali,Ticino
END:VEVENT
BEGIN:VEVENT
DTSTART;TZID=Europe/Zurich:20250827T093000
DTEND;TZID=Europe/Zurich:20250827T160000
DTSTAMP:20260423T061956
CREATED:20250321T162344Z
LAST-MODIFIED:20250321T162635Z
UID:10000042-1756287000-1756310400@www.sclerodermie.ch
SUMMARY:Comitato
DESCRIPTION:Hai delle domande? Contattaci:  \ninfo@sclerodermie.ch
URL:https://www.sclerodermie.ch/it/event/comitato/2025-08-27/
LOCATION:Martin Disteli-Strasse 2\, 4600 Olten
CATEGORIES:Altre date,Associazione,Diario
END:VEVENT
BEGIN:VEVENT
DTSTART;TZID=Europe/Zurich:20250927T120000
DTEND;TZID=Europe/Zurich:20250927T170000
DTSTAMP:20260423T061956
CREATED:20250819T130858Z
LAST-MODIFIED:20250819T130858Z
UID:10000068-1758974400-1758992400@www.sclerodermie.ch
SUMMARY:Gita di gruppo in Romandia
DESCRIPTION:Ecco alcuni dettagli per la gita di gruppo in Romandia: \nSabato 27 settembre a Romont\nRV 12h00\nRistorante: info a seguire \nPoi visita al museo delle vetrate intorno alle 14h30. \nIscrizioni fino al 15 settembre.
URL:https://www.sclerodermie.ch/it/event/gita-di-gruppo-in-romandia/
LOCATION:Romont
CATEGORIES:Diario,Incontri regionali,Svizzera Romanda
ORGANIZER;CN="Nadine Paciotti":MAILTO:nadine.paciotti@sclerodermie.ch
END:VEVENT
BEGIN:VEVENT
DTSTART;TZID=Europe/Zurich:20251105T093000
DTEND;TZID=Europe/Zurich:20251105T160000
DTSTAMP:20260423T061956
CREATED:20250321T162344Z
LAST-MODIFIED:20250321T162635Z
UID:10000043-1762335000-1762358400@www.sclerodermie.ch
SUMMARY:Comitato
DESCRIPTION:Hai delle domande? Contattaci:  \ninfo@sclerodermie.ch
URL:https://www.sclerodermie.ch/it/event/comitato/2025-11-05/
LOCATION:Martin Disteli-Strasse 2\, 4600 Olten
CATEGORIES:Altre date,Associazione,Diario
END:VEVENT
BEGIN:VEVENT
DTSTART;TZID=Europe/Zurich:20251106T140000
DTEND;TZID=Europe/Zurich:20251106T160000
DTSTAMP:20260423T061956
CREATED:20250401T112651Z
LAST-MODIFIED:20250401T113125Z
UID:10000059-1762437600-1762444800@www.sclerodermie.ch
SUMMARY:Gruppo regionale BE/VS - Riunione d'autunno
DESCRIPTION:Per informazioni o per iscriversi\, contatta la signora Messmer\njoelle.messmer@sclerodermie.ch
URL:https://www.sclerodermie.ch/it/event/gruppo-regionale-be-vs-riunione-di-primavera-2/
LOCATION:Rheumaliga BE\, Holzikofenweg 22\, Bern\, 3011
CATEGORIES:Berna,Diario,Incontri regionali
ORGANIZER;CN="Jo%C3%ABlle Messmer":MAILTO:joelle.messmer@sclerodermie.ch
END:VEVENT
BEGIN:VEVENT
DTSTART;TZID=Europe/Zurich:20260415T093000
DTEND;TZID=Europe/Zurich:20260415T160000
DTSTAMP:20260423T061956
CREATED:20260113T094644Z
LAST-MODIFIED:20260113T094644Z
UID:10000115-1776245400-1776268800@www.sclerodermie.ch
SUMMARY:Comitato
DESCRIPTION:Hai delle domande? Contattaci:  \ninfo@sclerodermie.ch
URL:https://www.sclerodermie.ch/it/event/comitato-3/2026-04-15/
LOCATION:Martin Disteli-Strasse 2\, 4600 Olten
CATEGORIES:Altre date,Associazione,Diario
END:VEVENT
BEGIN:VEVENT
DTSTART;TZID=Europe/Zurich:20260425T100000
DTEND;TZID=Europe/Zurich:20260425T160000
DTSTAMP:20260423T061956
CREATED:20240530T142611Z
LAST-MODIFIED:20260113T095724Z
UID:10000009-1777111200-1777132800@www.sclerodermie.ch
SUMMARY:Assemblea generale dell'ASS
DESCRIPTION:L’Assemblea generale del 2026 si terrà a Zuchwill il 25 avril.\nSeguiranno ulteriori informazioni. \nIl consiglio
URL:https://www.sclerodermie.ch/it/event/assemblea-generale-dellass/
LOCATION:Zuchwill\, Zuchwill\, 4528\, Switzerland
CATEGORIES:Associazione,Diario
END:VEVENT
BEGIN:VEVENT
DTSTART;TZID=Europe/Zurich:20260617T093000
DTEND;TZID=Europe/Zurich:20260617T160000
DTSTAMP:20260423T061956
CREATED:20260113T094644Z
LAST-MODIFIED:20260113T094644Z
UID:10000116-1781688600-1781712000@www.sclerodermie.ch
SUMMARY:Comitato
DESCRIPTION:Hai delle domande? Contattaci:  \ninfo@sclerodermie.ch
URL:https://www.sclerodermie.ch/it/event/comitato-3/2026-06-17/
LOCATION:Martin Disteli-Strasse 2\, 4600 Olten
CATEGORIES:Altre date,Associazione,Diario
END:VEVENT
BEGIN:VEVENT
DTSTART;TZID=Europe/Zurich:20260916T093000
DTEND;TZID=Europe/Zurich:20260916T160000
DTSTAMP:20260423T061956
CREATED:20260113T094644Z
LAST-MODIFIED:20260113T094644Z
UID:10000117-1789551000-1789574400@www.sclerodermie.ch
SUMMARY:Comitato
DESCRIPTION:Hai delle domande? Contattaci:  \ninfo@sclerodermie.ch
URL:https://www.sclerodermie.ch/it/event/comitato-3/2026-09-16/
LOCATION:Martin Disteli-Strasse 2\, 4600 Olten
CATEGORIES:Altre date,Associazione,Diario
END:VEVENT
BEGIN:VEVENT
DTSTART;TZID=Europe/Zurich:20261111T093000
DTEND;TZID=Europe/Zurich:20261111T160000
DTSTAMP:20260423T061956
CREATED:20260113T094644Z
LAST-MODIFIED:20260113T094644Z
UID:10000118-1794389400-1794412800@www.sclerodermie.ch
SUMMARY:Comitato
DESCRIPTION:Hai delle domande? Contattaci:  \ninfo@sclerodermie.ch
URL:https://www.sclerodermie.ch/it/event/comitato-3/2026-11-11/
LOCATION:Martin Disteli-Strasse 2\, 4600 Olten
CATEGORIES:Altre date,Associazione,Diario
END:VEVENT
END:VCALENDAR